BEGIN:VCALENDAR
VERSION:2.0
PRODID:-//co.Tec GmbH - ECPv6.15.20//NONSGML v1.0//EN
CALSCALE:GREGORIAN
METHOD:PUBLISH
X-WR-CALNAME:co.Tec GmbH
X-ORIGINAL-URL:https://www.info.cotec.de
X-WR-CALDESC:Veranstaltungen für co.Tec GmbH
REFRESH-INTERVAL;VALUE=DURATION:PT1H
X-Robots-Tag:noindex
X-PUBLISHED-TTL:PT1H
BEGIN:VTIMEZONE
TZID:Europe/Berlin
BEGIN:DAYLIGHT
TZOFFSETFROM:+0100
TZOFFSETTO:+0200
TZNAME:CEST
DTSTART:20230326T010000
END:DAYLIGHT
BEGIN:STANDARD
TZOFFSETFROM:+0200
TZOFFSETTO:+0100
TZNAME:CET
DTSTART:20231029T010000
END:STANDARD
BEGIN:DAYLIGHT
TZOFFSETFROM:+0100
TZOFFSETTO:+0200
TZNAME:CEST
DTSTART:20240331T010000
END:DAYLIGHT
BEGIN:STANDARD
TZOFFSETFROM:+0200
TZOFFSETTO:+0100
TZNAME:CET
DTSTART:20241027T010000
END:STANDARD
BEGIN:DAYLIGHT
TZOFFSETFROM:+0100
TZOFFSETTO:+0200
TZNAME:CEST
DTSTART:20250330T010000
END:DAYLIGHT
BEGIN:STANDARD
TZOFFSETFROM:+0200
TZOFFSETTO:+0100
TZNAME:CET
DTSTART:20251026T010000
END:STANDARD
BEGIN:DAYLIGHT
TZOFFSETFROM:+0100
TZOFFSETTO:+0200
TZNAME:CEST
DTSTART:20260329T010000
END:DAYLIGHT
BEGIN:STANDARD
TZOFFSETFROM:+0200
TZOFFSETTO:+0100
TZNAME:CET
DTSTART:20261025T010000
END:STANDARD
BEGIN:DAYLIGHT
TZOFFSETFROM:+0100
TZOFFSETTO:+0200
TZNAME:CEST
DTSTART:20270328T010000
END:DAYLIGHT
BEGIN:STANDARD
TZOFFSETFROM:+0200
TZOFFSETTO:+0100
TZNAME:CET
DTSTART:20271031T010000
END:STANDARD
END:VTIMEZONE
BEGIN:VEVENT
DTSTART;TZID=Europe/Berlin:20260310T090000
DTEND;TZID=Europe/Berlin:20260314T170000
DTSTAMP:20260420T174137
CREATED:20251017T122944Z
LAST-MODIFIED:20251217T133611Z
UID:9205-1773133200-1773507600@www.info.cotec.de
SUMMARY:didacta 2026
DESCRIPTION:Einblick\, Überblick\, Ausblick – die didacta ist die führende Fachmesse und Weiterbildungsveranstaltung für das gesamte Bildungswesen. Von der frühkindlichen Entwicklung über die berufliche Bildung bis hin zum lebenslangen Lernen: Die Bildungsplattform vereint wie keine andere die gesamte Bandbreite moderner Bildungs- und Lernangebote. Weg frei für die Bildung der Zukunft: Austausch mit einem Fachpublikum aus Politik\, Wirtschaft\, Wissenschaft und Gesellschaft. 								\n				\n				\n				\n					Besuchen Sie den co.Tec-Messestand				\n				\n				\n				\n									Wir freuen uns auf einen persönlichen Austausch mit Ihnen. Buchen Sie gerne vorab einen Termin und erhalten Sie von uns ein kostenloses Messeticket. 								\n				\n				\n				\n									\n					\n						\n									Termin vereinbaren
URL:https://www.info.cotec.de/veranstaltung/didacta-2026/
LOCATION:Koelnmesse GmbH\, Messeplatz 1\, Köln\, 50679
ATTACH;FMTTYPE=image/png:https://www.info.cotec.de/wp-content/uploads/2024/12/logo_didacta_1200x675.png
END:VEVENT
BEGIN:VEVENT
DTSTART;TZID=Europe/Berlin:20251127T100000
DTEND;TZID=Europe/Berlin:20251128T150000
DTSTAMP:20260420T174137
CREATED:20251017T114540Z
LAST-MODIFIED:20251017T115705Z
UID:9201-1764237600-1764342000@www.info.cotec.de
SUMMARY:Deutscher Schulträgerkongress 2025
DESCRIPTION:Einblick\, Überblick\, Ausblick – die didacta ist die führende Fachmesse und Weiterbildungsveranstaltung für das gesamte Bildungswesen. Von der frühkindlichen Entwicklung über die berufliche Bildung bis hin zum lebenslangen Lernen: Die Bildungsplattform vereint wie keine andere die gesamte Bandbreite moderner Bildungs- und Lernangebote. Weg frei für die Bildung der Zukunft: Austausch mit einem Fachpublikum aus Politik\, Wirtschaft\, Wissenschaft und Gesellschaft. 								\n				\n				\n				\n					Besuchen Sie den co.Tec-Messestand				\n				\n				\n				\n									Wir freuen uns auf einen persönlichen Austausch mit Ihnen. Buchen Sie gerne vorab einen Termin und erhalten Sie von uns ein kostenloses Messeticket. 								\n				\n				\n				\n									\n					\n						\n									Termin vereinbaren
URL:https://www.info.cotec.de/veranstaltung/deutscher-schultraegerkongress-2025/
LOCATION:CCD Congress Center Düsseldorf\, Stockumer Kirchstr. 61\, Düsseldorf\, 40474\, Germany
CATEGORIES:Kongresse
ATTACH;FMTTYPE=image/png:https://www.info.cotec.de/wp-content/uploads/2025/10/DSTK-Logo_rgb_DSTK-Logo_rgb-pxsx1uyxb88ipjvbixja2nrrcenrjc8wgpvf008aqk.png
END:VEVENT
BEGIN:VEVENT
DTSTART;TZID=Europe/Berlin:20251119T080000
DTEND;TZID=Europe/Berlin:20251119T140000
DTSTAMP:20260420T174137
CREATED:20251017T112839Z
LAST-MODIFIED:20251017T114212Z
UID:9197-1763539200-1763560800@www.info.cotec.de
SUMMARY:40. Oberbayerischer Lehrertag
DESCRIPTION:Einblick\, Überblick\, Ausblick – die didacta ist die führende Fachmesse und Weiterbildungsveranstaltung für das gesamte Bildungswesen. Von der frühkindlichen Entwicklung über die berufliche Bildung bis hin zum lebenslangen Lernen: Die Bildungsplattform vereint wie keine andere die gesamte Bandbreite moderner Bildungs- und Lernangebote. Weg frei für die Bildung der Zukunft: Austausch mit einem Fachpublikum aus Politik\, Wirtschaft\, Wissenschaft und Gesellschaft. 								\n				\n				\n				\n					Besuchen Sie den co.Tec-Messestand				\n				\n				\n				\n									Wir freuen uns auf einen persönlichen Austausch mit Ihnen. Buchen Sie gerne vorab einen Termin und erhalten Sie von uns ein kostenloses Messeticket. 								\n				\n				\n				\n									\n					\n						\n									Termin vereinbaren
URL:https://www.info.cotec.de/veranstaltung/40-oberbayerischer-lehrertag/
LOCATION:Veranstaltungsforum Fürstenfeld\, Fürstenfeld 12\, Fürstenfeldbruck\, 82256\, Germany
ATTACH;FMTTYPE=image/png:https://www.info.cotec.de/wp-content/uploads/2025/10/bllv-oberbayern.png
END:VEVENT
BEGIN:VEVENT
DTSTART;TZID=Europe/Berlin:20251104T083000
DTEND;TZID=Europe/Berlin:20251104T160000
DTSTAMP:20260420T174137
CREATED:20251017T111558Z
LAST-MODIFIED:20251017T111558Z
UID:9193-1762245000-1762272000@www.info.cotec.de
SUMMARY:BILDUNG.DIG!TAL Rostock
DESCRIPTION:Einblick\, Überblick\, Ausblick – die didacta ist die führende Fachmesse und Weiterbildungsveranstaltung für das gesamte Bildungswesen. Von der frühkindlichen Entwicklung über die berufliche Bildung bis hin zum lebenslangen Lernen: Die Bildungsplattform vereint wie keine andere die gesamte Bandbreite moderner Bildungs- und Lernangebote. Weg frei für die Bildung der Zukunft: Austausch mit einem Fachpublikum aus Politik\, Wirtschaft\, Wissenschaft und Gesellschaft. 								\n				\n				\n				\n					Besuchen Sie den co.Tec-Messestand				\n				\n				\n				\n									Wir freuen uns auf einen persönlichen Austausch mit Ihnen. Buchen Sie gerne vorab einen Termin und erhalten Sie von uns ein kostenloses Messeticket. 								\n				\n				\n				\n									\n					\n						\n									Termin vereinbaren
URL:https://www.info.cotec.de/veranstaltung/bildung-digtal-rostock/
LOCATION:Stadthalle Rostock\, Südring 90\, Rostock\, 18059\, Germany
ATTACH;FMTTYPE=image/png:https://www.info.cotec.de/wp-content/uploads/2025/10/Logo-B.D.png
END:VEVENT
BEGIN:VEVENT
DTSTART;TZID=Europe/Berlin:20250627T100000
DTEND;TZID=Europe/Berlin:20250627T104500
DTSTAMP:20260420T174137
CREATED:20250604T080332Z
LAST-MODIFIED:20250604T085348Z
UID:6563-1751018400-1751021100@www.info.cotec.de
SUMMARY:Alte Tafel\, neue Power: Nachhaltig & kosteneffizient auf das nächste Level mit Android-OPS
DESCRIPTION:Einblick\, Überblick\, Ausblick – die didacta ist die führende Fachmesse und Weiterbildungsveranstaltung für das gesamte Bildungswesen. Von der frühkindlichen Entwicklung über die berufliche Bildung bis hin zum lebenslangen Lernen: Die Bildungsplattform vereint wie keine andere die gesamte Bandbreite moderner Bildungs- und Lernangebote. Weg frei für die Bildung der Zukunft: Austausch mit einem Fachpublikum aus Politik\, Wirtschaft\, Wissenschaft und Gesellschaft. 								\n				\n				\n				\n					Besuchen Sie den co.Tec-Messestand				\n				\n				\n				\n									Wir freuen uns auf einen persönlichen Austausch mit Ihnen. Buchen Sie gerne vorab einen Termin und erhalten Sie von uns ein kostenloses Messeticket. 								\n				\n				\n				\n									\n					\n						\n									Termin vereinbaren
URL:https://www.info.cotec.de/veranstaltung/alte-tafel-neue-power-nachhaltig-kosteneffizient-auf-das-naechste-level-mit-android-ops/
LOCATION:Online Veranstaltung
ATTACH;FMTTYPE=image/jpeg:https://www.info.cotec.de/wp-content/uploads/2025/06/banner.jpg
END:VEVENT
BEGIN:VEVENT
DTSTART;TZID=Europe/Berlin:20250527T140000
DTEND;TZID=Europe/Berlin:20250527T150000
DTSTAMP:20260420T174137
CREATED:20250521T145719Z
LAST-MODIFIED:20250604T083244Z
UID:6256-1748354400-1748358000@www.info.cotec.de
SUMMARY:Webinar – KI-Verordnung im Schulalltag: Was jetzt zählt – und wie Sie sicher handeln
DESCRIPTION:Einblick\, Überblick\, Ausblick – die didacta ist die führende Fachmesse und Weiterbildungsveranstaltung für das gesamte Bildungswesen. Von der frühkindlichen Entwicklung über die berufliche Bildung bis hin zum lebenslangen Lernen: Die Bildungsplattform vereint wie keine andere die gesamte Bandbreite moderner Bildungs- und Lernangebote. Weg frei für die Bildung der Zukunft: Austausch mit einem Fachpublikum aus Politik\, Wirtschaft\, Wissenschaft und Gesellschaft. 								\n				\n				\n				\n					Besuchen Sie den co.Tec-Messestand				\n				\n				\n				\n									Wir freuen uns auf einen persönlichen Austausch mit Ihnen. Buchen Sie gerne vorab einen Termin und erhalten Sie von uns ein kostenloses Messeticket. 								\n				\n				\n				\n									\n					\n						\n									Termin vereinbaren
URL:https://www.info.cotec.de/veranstaltung/webinar-ki-verordnung-im-schulalltag-was-jetzt-zaehlt-und-wie-sie-sicher-handeln/
LOCATION:Online Veranstaltung
ATTACH;FMTTYPE=image/jpeg:https://www.info.cotec.de/wp-content/uploads/2025/05/KI-Event.jpg
END:VEVENT
BEGIN:VEVENT
DTSTART;VALUE=DATE:20250506
DTEND;VALUE=DATE:20250509
DTSTAMP:20260420T174137
CREATED:20241114T115738Z
LAST-MODIFIED:20241119T072233Z
UID:3717-1746489600-1746748799@www.info.cotec.de
SUMMARY:LEARNTEC - Europe's #1 in digital Learning
DESCRIPTION:Einblick\, Überblick\, Ausblick – die didacta ist die führende Fachmesse und Weiterbildungsveranstaltung für das gesamte Bildungswesen. Von der frühkindlichen Entwicklung über die berufliche Bildung bis hin zum lebenslangen Lernen: Die Bildungsplattform vereint wie keine andere die gesamte Bandbreite moderner Bildungs- und Lernangebote. Weg frei für die Bildung der Zukunft: Austausch mit einem Fachpublikum aus Politik\, Wirtschaft\, Wissenschaft und Gesellschaft. 								\n				\n				\n				\n					Besuchen Sie den co.Tec-Messestand				\n				\n				\n				\n									Wir freuen uns auf einen persönlichen Austausch mit Ihnen. Buchen Sie gerne vorab einen Termin und erhalten Sie von uns ein kostenloses Messeticket. 								\n				\n				\n				\n									\n					\n						\n									Termin vereinbaren
URL:https://www.info.cotec.de/veranstaltung/learntec/
LOCATION:Messe Karlsruhe\, Messeallee 1\, Rheinstetten\, 76287\, Germany
CATEGORIES:Messen
ATTACH;FMTTYPE=image/jpeg:https://www.info.cotec.de/wp-content/uploads/2024/11/rebooking2025_de_gallery_big.jpg
END:VEVENT
BEGIN:VEVENT
DTSTART;VALUE=DATE:20250321
DTEND;VALUE=DATE:20250322
DTSTAMP:20260420T174137
CREATED:20241129T134431Z
LAST-MODIFIED:20241129T134431Z
UID:4297-1742515200-1742601599@www.info.cotec.de
SUMMARY:Bayerischer Schulleitungskongress 2025
DESCRIPTION:Einblick\, Überblick\, Ausblick – die didacta ist die führende Fachmesse und Weiterbildungsveranstaltung für das gesamte Bildungswesen. Von der frühkindlichen Entwicklung über die berufliche Bildung bis hin zum lebenslangen Lernen: Die Bildungsplattform vereint wie keine andere die gesamte Bandbreite moderner Bildungs- und Lernangebote. Weg frei für die Bildung der Zukunft: Austausch mit einem Fachpublikum aus Politik\, Wirtschaft\, Wissenschaft und Gesellschaft. 								\n				\n				\n				\n					Besuchen Sie den co.Tec-Messestand				\n				\n				\n				\n									Wir freuen uns auf einen persönlichen Austausch mit Ihnen. Buchen Sie gerne vorab einen Termin und erhalten Sie von uns ein kostenloses Messeticket. 								\n				\n				\n				\n									\n					\n						\n									Termin vereinbaren
URL:https://www.info.cotec.de/veranstaltung/bayerischer-schulleitungskongress-2025/
LOCATION:Science Congress Center Munich\, Walther-von-Dyck Str. 10\, Garching bei München\, 85748\, Germany
CATEGORIES:Kongresse
ATTACH;FMTTYPE=image/png:https://www.info.cotec.de/wp-content/uploads/2024/11/bslk-2024.png
END:VEVENT
BEGIN:VEVENT
DTSTART;TZID=Europe/Berlin:20250320T083000
DTEND;TZID=Europe/Berlin:20250320T160000
DTSTAMP:20260420T174137
CREATED:20241129T133236Z
LAST-MODIFIED:20241129T133236Z
UID:4293-1742459400-1742486400@www.info.cotec.de
SUMMARY:BILDUNG.DIG!TAL Mainz
DESCRIPTION:Einblick\, Überblick\, Ausblick – die didacta ist die führende Fachmesse und Weiterbildungsveranstaltung für das gesamte Bildungswesen. Von der frühkindlichen Entwicklung über die berufliche Bildung bis hin zum lebenslangen Lernen: Die Bildungsplattform vereint wie keine andere die gesamte Bandbreite moderner Bildungs- und Lernangebote. Weg frei für die Bildung der Zukunft: Austausch mit einem Fachpublikum aus Politik\, Wirtschaft\, Wissenschaft und Gesellschaft. 								\n				\n				\n				\n					Besuchen Sie den co.Tec-Messestand				\n				\n				\n				\n									Wir freuen uns auf einen persönlichen Austausch mit Ihnen. Buchen Sie gerne vorab einen Termin und erhalten Sie von uns ein kostenloses Messeticket. 								\n				\n				\n				\n									\n					\n						\n									Termin vereinbaren
URL:https://www.info.cotec.de/veranstaltung/bildung-digtal-mainz/
LOCATION:Halle 45\, Hauptstraße 17-19\, Mainz\, 55120\, Germany
CATEGORIES:Kongresse
ATTACH;FMTTYPE=image/jpeg:https://www.info.cotec.de/wp-content/uploads/2024/11/BILDUNG.DIGITAL-Logo-breit-1024x554-1.jpg
END:VEVENT
BEGIN:VEVENT
DTSTART;VALUE=DATE:20250318
DTEND;VALUE=DATE:20250320
DTSTAMP:20260420T174137
CREATED:20241129T101640Z
LAST-MODIFIED:20241129T102037Z
UID:4284-1742256000-1742428799@www.info.cotec.de
SUMMARY:Deutscher Kitaleitungskongress - DKLK München 2025
DESCRIPTION:Einblick\, Überblick\, Ausblick – die didacta ist die führende Fachmesse und Weiterbildungsveranstaltung für das gesamte Bildungswesen. Von der frühkindlichen Entwicklung über die berufliche Bildung bis hin zum lebenslangen Lernen: Die Bildungsplattform vereint wie keine andere die gesamte Bandbreite moderner Bildungs- und Lernangebote. Weg frei für die Bildung der Zukunft: Austausch mit einem Fachpublikum aus Politik\, Wirtschaft\, Wissenschaft und Gesellschaft. 								\n				\n				\n				\n					Besuchen Sie den co.Tec-Messestand				\n				\n				\n				\n									Wir freuen uns auf einen persönlichen Austausch mit Ihnen. Buchen Sie gerne vorab einen Termin und erhalten Sie von uns ein kostenloses Messeticket. 								\n				\n				\n				\n									\n					\n						\n									Termin vereinbaren
URL:https://www.info.cotec.de/veranstaltung/deutscher-kitaleitungskongress-dklk-muenchen-2025/
LOCATION:Science Congress Center\, Walther-von-Dyck-Straße 10\, München\, 85748\, Germany
CATEGORIES:Kongresse
ATTACH;FMTTYPE=image/jpeg:https://www.info.cotec.de/wp-content/uploads/2024/11/logo_dklk_11-6_113153.jpg
END:VEVENT
BEGIN:VEVENT
DTSTART;VALUE=DATE:20250211
DTEND;VALUE=DATE:20250216
DTSTAMP:20260420T174137
CREATED:20240801T093813Z
LAST-MODIFIED:20250129T124027Z
UID:959-1739232000-1739663999@www.info.cotec.de
SUMMARY:Bildungsmesse - didacta 2025
DESCRIPTION:Einblick\, Überblick\, Ausblick – die didacta ist die führende Fachmesse und Weiterbildungsveranstaltung für das gesamte Bildungswesen. Von der frühkindlichen Entwicklung über die berufliche Bildung bis hin zum lebenslangen Lernen: Die Bildungsplattform vereint wie keine andere die gesamte Bandbreite moderner Bildungs- und Lernangebote. Weg frei für die Bildung der Zukunft: Austausch mit einem Fachpublikum aus Politik\, Wirtschaft\, Wissenschaft und Gesellschaft. 								\n				\n				\n				\n					Besuchen Sie den co.Tec-Messestand				\n				\n				\n				\n									Wir freuen uns auf einen persönlichen Austausch mit Ihnen. Buchen Sie gerne vorab einen Termin und erhalten Sie von uns ein kostenloses Messeticket. 								\n				\n				\n				\n									\n					\n						\n									Termin vereinbaren
URL:https://www.info.cotec.de/veranstaltung/didacta-2025/
LOCATION:Stuttgart\, Messepiazza 1\, Stuttgart\, Baden-Württemberg\, 70629\, Deutschland
CATEGORIES:Messen
ATTACH;FMTTYPE=image/jpeg:https://www.info.cotec.de/wp-content/uploads/2024/08/didacta-teaser.jpg
END:VEVENT
BEGIN:VEVENT
DTSTART;TZID=Europe/Berlin:20241029T150000
DTEND;TZID=Europe/Berlin:20241029T160000
DTSTAMP:20260420T174137
CREATED:20240919T135414Z
LAST-MODIFIED:20241018T115042Z
UID:1522-1730214000-1730217600@www.info.cotec.de
SUMMARY:IT-Komplexität verringern & Cyber-Angriffe verhindern – so geht's!
DESCRIPTION:Einblick\, Überblick\, Ausblick – die didacta ist die führende Fachmesse und Weiterbildungsveranstaltung für das gesamte Bildungswesen. Von der frühkindlichen Entwicklung über die berufliche Bildung bis hin zum lebenslangen Lernen: Die Bildungsplattform vereint wie keine andere die gesamte Bandbreite moderner Bildungs- und Lernangebote. Weg frei für die Bildung der Zukunft: Austausch mit einem Fachpublikum aus Politik\, Wirtschaft\, Wissenschaft und Gesellschaft. 								\n				\n				\n				\n					Besuchen Sie den co.Tec-Messestand				\n				\n				\n				\n									Wir freuen uns auf einen persönlichen Austausch mit Ihnen. Buchen Sie gerne vorab einen Termin und erhalten Sie von uns ein kostenloses Messeticket. 								\n				\n				\n				\n									\n					\n						\n									Termin vereinbaren
URL:https://www.info.cotec.de/veranstaltung/it-komplexitat-verringern-cyber-angriffe-verhindern-so-gehts/
LOCATION:Online Veranstaltung
CATEGORIES:Webinare
ATTACH;FMTTYPE=image/webp:https://www.info.cotec.de/wp-content/uploads/2024/09/Webinare-Thumb.webp
END:VEVENT
BEGIN:VEVENT
DTSTART;TZID=Europe/Berlin:20241007T160000
DTEND;TZID=Europe/Berlin:20241007T170000
DTSTAMP:20260420T174137
CREATED:20240919T135024Z
LAST-MODIFIED:20240919T135221Z
UID:1513-1728316800-1728320400@www.info.cotec.de
SUMMARY:Hybrides Lernen neu gedacht: Effiziente Kommunikation mit der richtigen Videokonferenzlösung
DESCRIPTION:Einblick\, Überblick\, Ausblick – die didacta ist die führende Fachmesse und Weiterbildungsveranstaltung für das gesamte Bildungswesen. Von der frühkindlichen Entwicklung über die berufliche Bildung bis hin zum lebenslangen Lernen: Die Bildungsplattform vereint wie keine andere die gesamte Bandbreite moderner Bildungs- und Lernangebote. Weg frei für die Bildung der Zukunft: Austausch mit einem Fachpublikum aus Politik\, Wirtschaft\, Wissenschaft und Gesellschaft. 								\n				\n				\n				\n					Besuchen Sie den co.Tec-Messestand				\n				\n				\n				\n									Wir freuen uns auf einen persönlichen Austausch mit Ihnen. Buchen Sie gerne vorab einen Termin und erhalten Sie von uns ein kostenloses Messeticket. 								\n				\n				\n				\n									\n					\n						\n									Termin vereinbaren
URL:https://www.info.cotec.de/veranstaltung/hybrides-lernen-neu-gedacht-effiziente-kommunikation-mit-der-richtigen-videokonferenzlosung/
LOCATION:Online Veranstaltung
CATEGORIES:Webinare
ATTACH;FMTTYPE=image/webp:https://www.info.cotec.de/wp-content/uploads/2024/09/Webinare-Thumb.webp
END:VEVENT
BEGIN:VEVENT
DTSTART;TZID=Europe/Berlin:20241002T143000
DTEND;TZID=Europe/Berlin:20241002T153000
DTSTAMP:20260420T174137
CREATED:20240919T134052Z
LAST-MODIFIED:20250417T084057Z
UID:1507-1727879400-1727883000@www.info.cotec.de
SUMMARY:Flexible Unterrichtssteuerung mit dem WLAN- und Contentfilter von OctoGate
DESCRIPTION:Einblick\, Überblick\, Ausblick – die didacta ist die führende Fachmesse und Weiterbildungsveranstaltung für das gesamte Bildungswesen. Von der frühkindlichen Entwicklung über die berufliche Bildung bis hin zum lebenslangen Lernen: Die Bildungsplattform vereint wie keine andere die gesamte Bandbreite moderner Bildungs- und Lernangebote. Weg frei für die Bildung der Zukunft: Austausch mit einem Fachpublikum aus Politik\, Wirtschaft\, Wissenschaft und Gesellschaft. 								\n				\n				\n				\n					Besuchen Sie den co.Tec-Messestand				\n				\n				\n				\n									Wir freuen uns auf einen persönlichen Austausch mit Ihnen. Buchen Sie gerne vorab einen Termin und erhalten Sie von uns ein kostenloses Messeticket. 								\n				\n				\n				\n									\n					\n						\n									Termin vereinbaren
URL:https://www.info.cotec.de/veranstaltung/flexible-unterrichtssteuerung-mit-dem-wlan-und-contentfilter-von-octogate/
LOCATION:Online Veranstaltung
CATEGORIES:Webinare
ATTACH;FMTTYPE=image/webp:https://www.info.cotec.de/wp-content/uploads/2024/09/Webinare-Thumb.webp
END:VEVENT
BEGIN:VEVENT
DTSTART;TZID=Europe/Berlin:20240926T140000
DTEND;TZID=Europe/Berlin:20240926T150000
DTSTAMP:20260420T174137
CREATED:20240919T133555Z
LAST-MODIFIED:20240919T133848Z
UID:1497-1727359200-1727362800@www.info.cotec.de
SUMMARY:co.Tec & Acer – Vielseitigkeit für bessere Lernerfolge
DESCRIPTION:Einblick\, Überblick\, Ausblick – die didacta ist die führende Fachmesse und Weiterbildungsveranstaltung für das gesamte Bildungswesen. Von der frühkindlichen Entwicklung über die berufliche Bildung bis hin zum lebenslangen Lernen: Die Bildungsplattform vereint wie keine andere die gesamte Bandbreite moderner Bildungs- und Lernangebote. Weg frei für die Bildung der Zukunft: Austausch mit einem Fachpublikum aus Politik\, Wirtschaft\, Wissenschaft und Gesellschaft. 								\n				\n				\n				\n					Besuchen Sie den co.Tec-Messestand				\n				\n				\n				\n									Wir freuen uns auf einen persönlichen Austausch mit Ihnen. Buchen Sie gerne vorab einen Termin und erhalten Sie von uns ein kostenloses Messeticket. 								\n				\n				\n				\n									\n					\n						\n									Termin vereinbaren
URL:https://www.info.cotec.de/veranstaltung/co-tec-acer-vielseitigkeit-fur-bessere-lernerfolge/
CATEGORIES:Webinare
ATTACH;FMTTYPE=image/webp:https://www.info.cotec.de/wp-content/uploads/2024/09/Webinare-Thumb.webp
END:VEVENT
BEGIN:VEVENT
DTSTART;TZID=Europe/Berlin:20240919T150000
DTEND;TZID=Europe/Berlin:20240919T160000
DTSTAMP:20260420T174137
CREATED:20240919T114628Z
LAST-MODIFIED:20240919T133220Z
UID:1475-1726758000-1726761600@www.info.cotec.de
SUMMARY:Robuste Endgeräte für Schule und Studium: Modular\, vielseitig\, nachhaltig
DESCRIPTION:Einblick\, Überblick\, Ausblick – die didacta ist die führende Fachmesse und Weiterbildungsveranstaltung für das gesamte Bildungswesen. Von der frühkindlichen Entwicklung über die berufliche Bildung bis hin zum lebenslangen Lernen: Die Bildungsplattform vereint wie keine andere die gesamte Bandbreite moderner Bildungs- und Lernangebote. Weg frei für die Bildung der Zukunft: Austausch mit einem Fachpublikum aus Politik\, Wirtschaft\, Wissenschaft und Gesellschaft. 								\n				\n				\n				\n					Besuchen Sie den co.Tec-Messestand				\n				\n				\n				\n									Wir freuen uns auf einen persönlichen Austausch mit Ihnen. Buchen Sie gerne vorab einen Termin und erhalten Sie von uns ein kostenloses Messeticket. 								\n				\n				\n				\n									\n					\n						\n									Termin vereinbaren
URL:https://www.info.cotec.de/veranstaltung/robuste-endgeraete-fuer-schule-und-studium-modular-vielseitig-nachhaltig/
LOCATION:Online Veranstaltung
CATEGORIES:Webinare
ATTACH;FMTTYPE=image/webp:https://www.info.cotec.de/wp-content/uploads/2024/09/Webinare-Thumb.webp
END:VEVENT
END:VCALENDAR